BEGIN:VCALENDAR
VERSION:2.0
PRODID:-//Chevrier entre Vuache et Vergers - ECPv6.15.20//NONSGML v1.0//EN
CALSCALE:GREGORIAN
METHOD:PUBLISH
X-WR-CALNAME:Chevrier entre Vuache et Vergers
X-ORIGINAL-URL:https://chevrier.fr
X-WR-CALDESC:Évènements pour Chevrier entre Vuache et Vergers
REFRESH-INTERVAL;VALUE=DURATION:PT1H
X-Robots-Tag:noindex
X-PUBLISHED-TTL:PT1H
BEGIN:VTIMEZONE
TZID:Europe/Zurich
BEGIN:DAYLIGHT
TZOFFSETFROM:+0100
TZOFFSETTO:+0200
TZNAME:CEST
DTSTART:20250330T010000
END:DAYLIGHT
BEGIN:STANDARD
TZOFFSETFROM:+0200
TZOFFSETTO:+0100
TZNAME:CET
DTSTART:20251026T010000
END:STANDARD
BEGIN:DAYLIGHT
TZOFFSETFROM:+0100
TZOFFSETTO:+0200
TZNAME:CEST
DTSTART:20260329T010000
END:DAYLIGHT
BEGIN:STANDARD
TZOFFSETFROM:+0200
TZOFFSETTO:+0100
TZNAME:CET
DTSTART:20261025T010000
END:STANDARD
BEGIN:DAYLIGHT
TZOFFSETFROM:+0100
TZOFFSETTO:+0200
TZNAME:CEST
DTSTART:20270328T010000
END:DAYLIGHT
BEGIN:STANDARD
TZOFFSETFROM:+0200
TZOFFSETTO:+0100
TZNAME:CET
DTSTART:20271031T010000
END:STANDARD
END:VTIMEZONE
BEGIN:VEVENT
DTSTART;TZID=Europe/Zurich:20260116T183000
DTEND;TZID=Europe/Zurich:20260116T203000
DTSTAMP:20260419T171941
CREATED:20260102T124115Z
LAST-MODIFIED:20260102T124117Z
UID:12468-1768588200-1768595400@chevrier.fr
SUMMARY:Voeux du Maire
DESCRIPTION:Salle périscolaire (sous l’école)
URL:https://chevrier.fr/evenement/voeux-du-maire-2/
LOCATION:Salle des fêtes (sous l’école)\, 177 chemin des Perrières\, Chevrier\, 74520\, France
CATEGORIES:Cérémonie,Évènement
ATTACH;FMTTYPE=image/png:https://chevrier.fr/wp-content/uploads/2026/01/—Pngtree—elegant-happy-new-year-2026_22812485-scaled.png
END:VEVENT
BEGIN:VEVENT
DTSTART;TZID=Europe/Zurich:20260131T143000
DTEND;TZID=Europe/Zurich:20260131T233000
DTSTAMP:20260419T171941
CREATED:20260122T110024Z
LAST-MODIFIED:20260122T110255Z
UID:12509-1769869800-1769902200@chevrier.fr
SUMMARY:Loto de l'APE
DESCRIPTION:Logo APE Chevrier\n\n\n\n\n\n\n\nRéservation des billets sur le site Hello Asso. \n\n\n\n\n\n\n\n\n\n\n\n\n\nSalle des Fêtes
URL:https://chevrier.fr/evenement/loto-de-lape-2/
LOCATION:Salle des fêtes (sous l’école)\, 177 chemin des Perrières\, Chevrier\, 74520\, France
ATTACH;FMTTYPE=image/jpeg:https://chevrier.fr/wp-content/uploads/2025/01/loto.jpg
END:VEVENT
END:VCALENDAR