BEGIN:VCALENDAR
VERSION:2.0
PRODID:-//Chevrier entre Vuache et Vergers - ECPv6.15.20//NONSGML v1.0//EN
CALSCALE:GREGORIAN
METHOD:PUBLISH
X-ORIGINAL-URL:https://chevrier.fr
X-WR-CALDESC:Évènements pour Chevrier entre Vuache et Vergers
REFRESH-INTERVAL;VALUE=DURATION:PT1H
X-Robots-Tag:noindex
X-PUBLISHED-TTL:PT1H
BEGIN:VTIMEZONE
TZID:Europe/Zurich
BEGIN:DAYLIGHT
TZOFFSETFROM:+0100
TZOFFSETTO:+0200
TZNAME:CEST
DTSTART:20240331T010000
END:DAYLIGHT
BEGIN:STANDARD
TZOFFSETFROM:+0200
TZOFFSETTO:+0100
TZNAME:CET
DTSTART:20241027T010000
END:STANDARD
BEGIN:DAYLIGHT
TZOFFSETFROM:+0100
TZOFFSETTO:+0200
TZNAME:CEST
DTSTART:20250330T010000
END:DAYLIGHT
BEGIN:STANDARD
TZOFFSETFROM:+0200
TZOFFSETTO:+0100
TZNAME:CET
DTSTART:20251026T010000
END:STANDARD
BEGIN:DAYLIGHT
TZOFFSETFROM:+0100
TZOFFSETTO:+0200
TZNAME:CEST
DTSTART:20260329T010000
END:DAYLIGHT
BEGIN:STANDARD
TZOFFSETFROM:+0200
TZOFFSETTO:+0100
TZNAME:CET
DTSTART:20261025T010000
END:STANDARD
END:VTIMEZONE
BEGIN:VEVENT
DTSTART;TZID=Europe/Zurich:20251205T190000
DTEND;TZID=Europe/Zurich:20251205T220000
DTSTAMP:20260419T185652
CREATED:20251023T163031Z
LAST-MODIFIED:20251023T163033Z
UID:12378-1764961200-1764972000@chevrier.fr
SUMMARY:Apéros de l'Avent #2
DESCRIPTION:Retrouvons-nous pour un moment convivial. Apportez à boire ou quelque chose à grignoter (sauf le 20.12)\, le vin chaud vous sera offert !Possibilité d’apporter sa pizza prête à cuire au feu de bois ! \n\n\n\n\n\n\n\n\n\n\n\n\n\nChapelle de Chevrier
URL:https://chevrier.fr/evenement/aperos-de-lavent-2-2/
LOCATION:Vieux Lavoir\, Chemin du Vieux Lavoir\, Chevrier\, 74520\, France
ATTACH;FMTTYPE=image/jpeg:https://chevrier.fr/wp-content/uploads/2024/11/Pizza.jpg
END:VEVENT
BEGIN:VEVENT
DTSTART;TZID=Europe/Zurich:20251212T190000
DTEND;TZID=Europe/Zurich:20251212T220000
DTSTAMP:20260419T185652
CREATED:20251023T163140Z
LAST-MODIFIED:20251023T163142Z
UID:12380-1765566000-1765576800@chevrier.fr
SUMMARY:Apéros de l'Avent #3
DESCRIPTION:Retrouvons-nous pour un moment convivial. Apportez à boire ou quelque chose à grignoter (sauf le 20.12)\, le vin chaud vous sera offert !Spectacle des enfants et jeunes. Chapeau au profit de l’école. \n\n\n\n\n\n\n\n\n\n\n\n\n\nChapelle de Chevrier
URL:https://chevrier.fr/evenement/aperos-de-lavent-3-2/
LOCATION:Théâtre de la Grange\, 463 Route de Vulbens\, Chevrier\, 74520
ATTACH;FMTTYPE=image/jpeg:https://chevrier.fr/wp-content/uploads/2024/11/Rideau_theatre.jpg
END:VEVENT
BEGIN:VEVENT
DTSTART;TZID=Europe/Zurich:20251219T193000
DTEND;TZID=Europe/Zurich:20251219T223000
DTSTAMP:20260419T185652
CREATED:20251023T163240Z
LAST-MODIFIED:20251207T210852Z
UID:12382-1766172600-1766183400@chevrier.fr
SUMMARY:Chorale de Noël #1
DESCRIPTION:Afin de clore en beauté les « apéros de l’Avent »\, la Chorale de Noël de Chevrier revient comme le veut la tradition désormais cette année ! \n\n\n\nLe concert sera précédé à 19h30 par la parade des tracteurs lumineux\, et suivi d’un dernier apéritif de l’Avent organisé par le Comité des Fêtes. \n\n\n\nHoraires indicatifs :– 19h30 : parade des tracteurs lumineux– 20h : concert de la Chorale de Noël– 21h : dernier apéritif de l’Avent 2025 \n\n\n\n\n\n\n\n\n\n\n\n\n\nChapelle de Chevrier
URL:https://chevrier.fr/evenement/chorale-de-noel-2/
LOCATION:Chapelle de Chevrier\, 12 chemin de pré Benoit\, Chevrier\, 74520\, France
ATTACH;FMTTYPE=image/jpeg:https://chevrier.fr/wp-content/uploads/2024/11/chorale.jpg
END:VEVENT
BEGIN:VEVENT
DTSTART;TZID=Europe/Zurich:20251220T200000
DTEND;TZID=Europe/Zurich:20251220T220000
DTSTAMP:20260419T185652
CREATED:20251207T210529Z
LAST-MODIFIED:20251207T210531Z
UID:12445-1766260800-1766268000@chevrier.fr
SUMMARY:Chorale de Noël #2
DESCRIPTION:Afin de clore en beauté les « apéros de l’Avent »\, la Chorale de Noël de Chevrier revient comme le veut la tradition désormais cette année ! \n\n\n\n \n\n\n\n \n\n\n\n\n\n\n\n\n\n\n\n\n\nChapelle de Chevrier
URL:https://chevrier.fr/evenement/chorale-de-noel-2-2/
LOCATION:Chapelle de Chevrier\, 12 chemin de pré Benoit\, Chevrier\, 74520\, France
ATTACH;FMTTYPE=image/jpeg:https://chevrier.fr/wp-content/uploads/2024/11/chorale.jpg
END:VEVENT
END:VCALENDAR