BEGIN:VCALENDAR
VERSION:2.0
PRODID:-//Chevrier entre Vuache et Vergers - ECPv6.15.20//NONSGML v1.0//EN
CALSCALE:GREGORIAN
METHOD:PUBLISH
X-WR-CALNAME:Chevrier entre Vuache et Vergers
X-ORIGINAL-URL:https://chevrier.fr
X-WR-CALDESC:Évènements pour Chevrier entre Vuache et Vergers
REFRESH-INTERVAL;VALUE=DURATION:PT1H
X-Robots-Tag:noindex
X-PUBLISHED-TTL:PT1H
BEGIN:VTIMEZONE
TZID:Europe/Zurich
BEGIN:DAYLIGHT
TZOFFSETFROM:+0100
TZOFFSETTO:+0200
TZNAME:CEST
DTSTART:20240331T010000
END:DAYLIGHT
BEGIN:STANDARD
TZOFFSETFROM:+0200
TZOFFSETTO:+0100
TZNAME:CET
DTSTART:20241027T010000
END:STANDARD
BEGIN:DAYLIGHT
TZOFFSETFROM:+0100
TZOFFSETTO:+0200
TZNAME:CEST
DTSTART:20250330T010000
END:DAYLIGHT
BEGIN:STANDARD
TZOFFSETFROM:+0200
TZOFFSETTO:+0100
TZNAME:CET
DTSTART:20251026T010000
END:STANDARD
BEGIN:DAYLIGHT
TZOFFSETFROM:+0100
TZOFFSETTO:+0200
TZNAME:CEST
DTSTART:20260329T010000
END:DAYLIGHT
BEGIN:STANDARD
TZOFFSETFROM:+0200
TZOFFSETTO:+0100
TZNAME:CET
DTSTART:20261025T010000
END:STANDARD
END:VTIMEZONE
BEGIN:VEVENT
DTSTART;TZID=Europe/Zurich:20250920T000000
DTEND;TZID=Europe/Zurich:20250921T235959
DTSTAMP:20260420T004623
CREATED:20250611T080548Z
LAST-MODIFIED:20250917T202457Z
UID:12013-1758326400-1758499199@chevrier.fr
SUMMARY:Journées du Patrimoine
DESCRIPTION:A cette occasion la Chapelle de Chevrier sera comme chaque année ouverte au public durant le week-end.Pour plus d’informations\, veuillez cliquer ici.
URL:https://chevrier.fr/evenement/journees-europeennes-du-patrimoine/
LOCATION:Chapelle de Chevrier\, 12 chemin de pré Benoit\, Chevrier\, 74520\, France
CATEGORIES:Culture,Évènement,Patrimoine
ATTACH;FMTTYPE=image/png:https://chevrier.fr/wp-content/uploads/2025/06/Journees_patrimoine_2025_bandeau-1.png
END:VEVENT
END:VCALENDAR