BEGIN:VCALENDAR
VERSION:2.0
PRODID:-//Chevrier entre Vuache et Vergers - ECPv6.15.20//NONSGML v1.0//EN
CALSCALE:GREGORIAN
METHOD:PUBLISH
X-WR-CALNAME:Chevrier entre Vuache et Vergers
X-ORIGINAL-URL:https://chevrier.fr
X-WR-CALDESC:Évènements pour Chevrier entre Vuache et Vergers
REFRESH-INTERVAL;VALUE=DURATION:PT1H
X-Robots-Tag:noindex
X-PUBLISHED-TTL:PT1H
BEGIN:VTIMEZONE
TZID:Europe/Zurich
BEGIN:DAYLIGHT
TZOFFSETFROM:+0100
TZOFFSETTO:+0200
TZNAME:CEST
DTSTART:20240331T010000
END:DAYLIGHT
BEGIN:STANDARD
TZOFFSETFROM:+0200
TZOFFSETTO:+0100
TZNAME:CET
DTSTART:20241027T010000
END:STANDARD
BEGIN:DAYLIGHT
TZOFFSETFROM:+0100
TZOFFSETTO:+0200
TZNAME:CEST
DTSTART:20250330T010000
END:DAYLIGHT
BEGIN:STANDARD
TZOFFSETFROM:+0200
TZOFFSETTO:+0100
TZNAME:CET
DTSTART:20251026T010000
END:STANDARD
BEGIN:DAYLIGHT
TZOFFSETFROM:+0100
TZOFFSETTO:+0200
TZNAME:CEST
DTSTART:20260329T010000
END:DAYLIGHT
BEGIN:STANDARD
TZOFFSETFROM:+0200
TZOFFSETTO:+0100
TZNAME:CET
DTSTART:20261025T010000
END:STANDARD
END:VTIMEZONE
BEGIN:VEVENT
DTSTART;TZID=Europe/Zurich:20250610T200000
DTEND;TZID=Europe/Zurich:20250610T213000
DTSTAMP:20260424T102933
CREATED:20250513T115827Z
LAST-MODIFIED:20250513T120708Z
UID:11925-1749585600-1749591000@chevrier.fr
SUMMARY:REUNION PUBLIQUE Coupes Sanitaires dans le Vuache
DESCRIPTION:
URL:https://chevrier.fr/evenement/soiree-pizza-au-feu-de-bois-dupliquer/
LOCATION:Centre ECLA – Vulbens\, 20 Rte de Faramaz\, Vulbens\, 74520\, France
CATEGORIES:Évènement
ATTACH;FMTTYPE=image/jpeg:https://chevrier.fr/wp-content/uploads/2025/05/logo-onf.jpg
END:VEVENT
BEGIN:VEVENT
DTSTART;TZID=Europe/Zurich:20250628T100000
DTEND;TZID=Europe/Zurich:20250628T120000
DTSTAMP:20260424T102933
CREATED:20250610T144714Z
LAST-MODIFIED:20250610T144823Z
UID:11986-1751104800-1751112000@chevrier.fr
SUMMARY:Inauguration appartements
DESCRIPTION:
URL:https://chevrier.fr/evenement/inauguration-appartements/
LOCATION:Zone école/mairie\, 177 chemin des Perrières\, Chevrier\, 74520\, France
CATEGORIES:Évènement
ATTACH;FMTTYPE=image/png:https://chevrier.fr/wp-content/uploads/2025/06/Appart.png
END:VEVENT
END:VCALENDAR