BEGIN:VCALENDAR
VERSION:2.0
PRODID:-//Chevrier entre Vuache et Vergers - ECPv6.15.20//NONSGML v1.0//EN
CALSCALE:GREGORIAN
METHOD:PUBLISH
X-WR-CALNAME:Chevrier entre Vuache et Vergers
X-ORIGINAL-URL:https://chevrier.fr
X-WR-CALDESC:Évènements pour Chevrier entre Vuache et Vergers
REFRESH-INTERVAL;VALUE=DURATION:PT1H
X-Robots-Tag:noindex
X-PUBLISHED-TTL:PT1H
BEGIN:VTIMEZONE
TZID:Europe/Zurich
BEGIN:DAYLIGHT
TZOFFSETFROM:+0100
TZOFFSETTO:+0200
TZNAME:CEST
DTSTART:20240331T010000
END:DAYLIGHT
BEGIN:STANDARD
TZOFFSETFROM:+0200
TZOFFSETTO:+0100
TZNAME:CET
DTSTART:20241027T010000
END:STANDARD
BEGIN:DAYLIGHT
TZOFFSETFROM:+0100
TZOFFSETTO:+0200
TZNAME:CEST
DTSTART:20250330T010000
END:DAYLIGHT
BEGIN:STANDARD
TZOFFSETFROM:+0200
TZOFFSETTO:+0100
TZNAME:CET
DTSTART:20251026T010000
END:STANDARD
BEGIN:DAYLIGHT
TZOFFSETFROM:+0100
TZOFFSETTO:+0200
TZNAME:CEST
DTSTART:20260329T010000
END:DAYLIGHT
BEGIN:STANDARD
TZOFFSETFROM:+0200
TZOFFSETTO:+0100
TZNAME:CET
DTSTART:20261025T010000
END:STANDARD
END:VTIMEZONE
BEGIN:VEVENT
DTSTART;TZID=Europe/Zurich:20250309T120000
DTEND;TZID=Europe/Zurich:20250309T163000
DTSTAMP:20260424T103553
CREATED:20250123T164912Z
LAST-MODIFIED:20250123T165154Z
UID:11658-1741521600-1741537800@chevrier.fr
SUMMARY:Repas d'hiver
DESCRIPTION:Rejoignez-nous pour un repas réconfortant dans une ambiance conviviale! Après-midi quiz en équipe et belote.12€ le menu adulte / 6€ le menu enfantMenu :Salade verteDiots et pommes de terreFromageTarte aux pommesCafé offert \n\n\n\nRéservations sur HelloAsso ou au 06.37.31.55.15.Sur place ou à emporter ! \n\n\n\n\n\n\n\n\n\n\n\n\n\nSalle des Fêtes
URL:https://chevrier.fr/evenement/repas-dhiver/
LOCATION:Salle des fêtes (sous l’école)\, 177 chemin des Perrières\, Chevrier\, 74520\, France
ATTACH;FMTTYPE=image/jpeg:https://chevrier.fr/wp-content/uploads/2022/10/logo_touviere.jpg
END:VEVENT
BEGIN:VEVENT
DTSTART;TZID=Europe/Zurich:20250322T093000
DTEND;TZID=Europe/Zurich:20250322T123000
DTSTAMP:20260424T103553
CREATED:20250116T182331Z
LAST-MODIFIED:20250116T182632Z
UID:11641-1742635800-1742646600@chevrier.fr
SUMMARY:Nettoyage de Printemps
DESCRIPTION:Venez participer à une belle action citoyenne dans une ambiance conviviale en aidant lors du traditionnel nettoyage de printemps.Petits et grands sont bien entendu bienvenus pour débarasser les abords des voiries de la commune des déchets qui la polluent.N’oubliez pas de vous munir de gants et idéalement de gilets de sécurité fluorescents. \n\n\n\n \n\n\n\n\n\n\n\n\n\n\n\n\n\nParking de la Mairie
URL:https://chevrier.fr/evenement/nettoyage-de-printemps/
LOCATION:Zone école/mairie\, 177 chemin des Perrières\, Chevrier\, 74520\, France
ATTACH;FMTTYPE=image/jpeg:https://chevrier.fr/wp-content/uploads/2025/01/Nettoyage_print_2025.jpg
END:VEVENT
BEGIN:VEVENT
DTSTART;TZID=Europe/Zurich:20250322T160000
DTEND;TZID=Europe/Zurich:20250322T200000
DTSTAMP:20260424T103553
CREATED:20250226T080845Z
LAST-MODIFIED:20250226T081528Z
UID:11705-1742659200-1742673600@chevrier.fr
SUMMARY:Carnaval - Boum APE
DESCRIPTION:Logo APE Chevrier\n\n\n\nLe Carnaval fait sa BOUM !3€/enfantGratuit pour les adultesElection du plus beau déguisement !!Maquillage / Tatoos / Animation musicaleBuvette et Snack \n\n\n\n\n\n\n\n\n\n\n\n\n\nSalle des Fêtes
URL:https://chevrier.fr/evenement/loto-de-lape-dupliquer/
LOCATION:Salle des fêtes (sous l’école)\, 177 chemin des Perrières\, Chevrier\, 74520\, France
ATTACH;FMTTYPE=image/png:https://chevrier.fr/wp-content/uploads/2025/02/Partiel_carnaval_boum_2025.png
END:VEVENT
BEGIN:VEVENT
DTSTART;TZID=Europe/Zurich:20250328T190000
DTEND;TZID=Europe/Zurich:20250328T190000
DTSTAMP:20260424T103553
CREATED:20250313T141233Z
LAST-MODIFIED:20250313T141759Z
UID:11717-1743188400-1743188400@chevrier.fr
SUMMARY:Assemblée générale du Comité de Jumelage
DESCRIPTION:La prochaine assemblée générale du comité de jumelage se tiendra le vendredi 28 mars 2025 à 19h00 dans les locaux de la Communauté de Communes du Genevois\, salle Orjobet. \n\n\n\n\nOrdre du jour :  \n\n\n\n1- Rapport moral2- Rapport financier3- Projets 20254- Questions diverses \n\n\n\nLa réunion se terminera par un verre de l’amitié.  \n\n\n\n\n\n\n\n\n\n\n\n\n\n\nSalle Orjobet
URL:https://chevrier.fr/evenement/assemblee-generale-du-comite-de-jumelage/
LOCATION:Communauté de Communes du Genevois\, 38 rue Georges de Mestral\, Archamps\, 74160\, France
CATEGORIES:Évènement,Patrimoine
ATTACH;FMTTYPE=image/jpeg:https://chevrier.fr/wp-content/uploads/2025/03/Jumelage_Mossingen_visuel1.jpg
END:VEVENT
END:VCALENDAR